BEGIN:VCALENDAR
VERSION:2.0
PRODID:-//Town Winchester - ECPv6.15.20//NONSGML v1.0//EN
CALSCALE:GREGORIAN
METHOD:PUBLISH
X-WR-CALNAME:Town Winchester
X-ORIGINAL-URL:https://winchesterwi.com
X-WR-CALDESC:Events for Town Winchester
REFRESH-INTERVAL;VALUE=DURATION:PT1H
X-Robots-Tag:noindex
X-PUBLISHED-TTL:PT1H
BEGIN:VTIMEZONE
TZID:America/Chicago
BEGIN:DAYLIGHT
TZOFFSETFROM:-0600
TZOFFSETTO:-0500
TZNAME:CDT
DTSTART:20230312T080000
END:DAYLIGHT
BEGIN:STANDARD
TZOFFSETFROM:-0500
TZOFFSETTO:-0600
TZNAME:CST
DTSTART:20231105T070000
END:STANDARD
BEGIN:DAYLIGHT
TZOFFSETFROM:-0600
TZOFFSETTO:-0500
TZNAME:CDT
DTSTART:20240310T080000
END:DAYLIGHT
BEGIN:STANDARD
TZOFFSETFROM:-0500
TZOFFSETTO:-0600
TZNAME:CST
DTSTART:20241103T070000
END:STANDARD
BEGIN:DAYLIGHT
TZOFFSETFROM:-0600
TZOFFSETTO:-0500
TZNAME:CDT
DTSTART:20250309T080000
END:DAYLIGHT
BEGIN:STANDARD
TZOFFSETFROM:-0500
TZOFFSETTO:-0600
TZNAME:CST
DTSTART:20251102T070000
END:STANDARD
END:VTIMEZONE
BEGIN:VEVENT
DTSTART;TZID=America/Chicago:20240621T100000
DTEND;TZID=America/Chicago:20240621T110000
DTSTAMP:20260420T113953
CREATED:20240526T230748Z
LAST-MODIFIED:20240526T230748Z
UID:10000108-1718964000-1718967600@winchesterwi.com
SUMMARY:Birthday Club at the Winchester Public Library
DESCRIPTION:Come and celebrate June birthdays at the Winchester Public Library with ice cream\, snacks\, and a good time. \nhttps://www.winchesterpubliclibrary.com/event/birthday-club-4/
URL:https://winchesterwi.com/event/birthday-club-at-the-winchester-public-library/
LOCATION:Winchester Public Library\, 2117 Lake St\, Winchester\, WI\, 54557\, United States
END:VEVENT
BEGIN:VEVENT
DTSTART;TZID=America/Chicago:20240615T090000
DTEND;TZID=America/Chicago:20240615T153000
DTSTAMP:20260420T113953
CREATED:20240610T224400Z
LAST-MODIFIED:20240610T224400Z
UID:10000135-1718442000-1718465400@winchesterwi.com
SUMMARY:Women’s Beginner MTB Clinic at WinMan Trails
DESCRIPTION:https://www.winmantrails.com/event/womens-beginner-mtb-clinic-2024/
URL:https://winchesterwi.com/event/womens-beginner-mtb-clinic-at-winman-trails/
LOCATION:WinMan Trails\, 6870 Hwy W\, Winchester\, WI\, 54557\, United States
END:VEVENT
BEGIN:VEVENT
DTSTART;TZID=America/Chicago:20240607T100000
DTEND;TZID=America/Chicago:20240607T120000
DTSTAMP:20260420T113953
CREATED:20240526T230211Z
LAST-MODIFIED:20240725T191718Z
UID:10000140-1717754400-1717761600@winchesterwi.com
SUMMARY:Vilas County Supervisor at Winchester Public Library
DESCRIPTION:Vilas County Supervisor Richard Logan holds office hours from 10am to noon the first Saturday of the month to address your questions and concerns. \n  \nhttps://www.winchesterpubliclibrary.com/series/vilas-county-supervisor-office-hours/
URL:https://winchesterwi.com/event/vilas-county-supervisor-at-winchester-public-library/2024-06-07/
LOCATION:Winchester Public Library\, 2117 Lake St\, Winchester\, WI\, 54557\, United States
END:VEVENT
BEGIN:VEVENT
DTSTART;TZID=America/Chicago:20240604T120000
DTEND;TZID=America/Chicago:20240604T120000
DTSTAMP:20260420T113953
CREATED:20240525T210356Z
LAST-MODIFIED:20240525T210510Z
UID:10000034-1717502400-1717502400@winchesterwi.com
SUMMARY:Jeff Kersten\, Consumer Protection – Common Scams and Frauds Targeting Seniors
DESCRIPTION:https://www.winchesterpubliclibrary.com/event/jeff-kersten-consumer-protection-common-scams-and-frauds-targeting-seniors/
URL:https://winchesterwi.com/event/jeff-kersten-consumer-protection-common-scams-and-frauds-targeting-seniors/
LOCATION:Winchester Public Library\, 2117 Lake St\, Winchester\, WI\, 54557\, United States
END:VEVENT
BEGIN:VEVENT
DTSTART;TZID=America/Chicago:20240506T180000
DTEND;TZID=America/Chicago:20240506T200000
DTSTAMP:20260420T113953
CREATED:20231229T122818Z
LAST-MODIFIED:20241115T012629Z
UID:10000022-1715018400-1715025600@winchesterwi.com
SUMMARY:Town Board Meeting
DESCRIPTION:Monthly Town Board Meeting at Winchester Town Hall and Via Zoom\nJoin Zoom Meeting\nMeeting ID: 744 184 2374\nPasscode: 231411
URL:https://winchesterwi.com/event/town-board-meeting-2/2024-05-06/
LOCATION:Winchester Town Hall\, 7228 Highway W\, Winchester\, WI\, 54557\, United States
CATEGORIES:Meetings
END:VEVENT
BEGIN:VEVENT
DTSTART;TZID=America/Chicago:20240425T083000
DTEND;TZID=America/Chicago:20240425T083000
DTSTAMP:20260420T113953
CREATED:20240425T120901Z
LAST-MODIFIED:20240428T113726Z
UID:10000032-1714033800-1714033800@winchesterwi.com
SUMMARY:Special Town Board Meeting
DESCRIPTION:View Meeting Agenda
URL:https://winchesterwi.com/event/special-town-board-meeting/
LOCATION:Winchester Town Hall\, 7228 Highway W\, Winchester\, WI\, 54557\, United States
CATEGORIES:Meetings
END:VEVENT
END:VCALENDAR