BEGIN:VCALENDAR
VERSION:2.0
PRODID:-//Town Winchester - ECPv6.15.20//NONSGML v1.0//EN
CALSCALE:GREGORIAN
METHOD:PUBLISH
X-WR-CALNAME:Town Winchester
X-ORIGINAL-URL:https://winchesterwi.com
X-WR-CALDESC:Events for Town Winchester
REFRESH-INTERVAL;VALUE=DURATION:PT1H
X-Robots-Tag:noindex
X-PUBLISHED-TTL:PT1H
BEGIN:VTIMEZONE
TZID:America/Chicago
BEGIN:DAYLIGHT
TZOFFSETFROM:-0600
TZOFFSETTO:-0500
TZNAME:CDT
DTSTART:20230312T080000
END:DAYLIGHT
BEGIN:STANDARD
TZOFFSETFROM:-0500
TZOFFSETTO:-0600
TZNAME:CST
DTSTART:20231105T070000
END:STANDARD
BEGIN:DAYLIGHT
TZOFFSETFROM:-0600
TZOFFSETTO:-0500
TZNAME:CDT
DTSTART:20240310T080000
END:DAYLIGHT
BEGIN:STANDARD
TZOFFSETFROM:-0500
TZOFFSETTO:-0600
TZNAME:CST
DTSTART:20241103T070000
END:STANDARD
BEGIN:DAYLIGHT
TZOFFSETFROM:-0600
TZOFFSETTO:-0500
TZNAME:CDT
DTSTART:20250309T080000
END:DAYLIGHT
BEGIN:STANDARD
TZOFFSETFROM:-0500
TZOFFSETTO:-0600
TZNAME:CST
DTSTART:20251102T070000
END:STANDARD
END:VTIMEZONE
BEGIN:VEVENT
DTSTART;TZID=America/Chicago:20240923T190000
DTEND;TZID=America/Chicago:20240923T210000
DTSTAMP:20260423T044737
CREATED:20240916T214717Z
LAST-MODIFIED:20240916T214717Z
UID:10000042-1727118000-1727125200@winchesterwi.com
SUMMARY:Planning Commission Meeting
DESCRIPTION:Winchester Town Planning Commission meeting 7:00 pm-9:00PM at the Winchester Town Hall and via Zoom \nJoin Zoom Meeting                       View Agenda\nMeeting ID: 744 184 2374\nPasscode: 231411
URL:https://winchesterwi.com/event/planning-commission-meeting-2-2-2/
LOCATION:Winchester Town Hall\, 7228 Highway W\, Winchester\, WI\, 54557\, United States
END:VEVENT
BEGIN:VEVENT
DTSTART;TZID=America/Chicago:20240906T100000
DTEND;TZID=America/Chicago:20240906T120000
DTSTAMP:20260423T044737
CREATED:20240526T230211Z
LAST-MODIFIED:20240725T191718Z
UID:10000143-1725616800-1725624000@winchesterwi.com
SUMMARY:Vilas County Supervisor at Winchester Public Library
DESCRIPTION:Vilas County Supervisor Richard Logan holds office hours from 10am to noon the first Saturday of the month to address your questions and concerns. \n  \nhttps://www.winchesterpubliclibrary.com/series/vilas-county-supervisor-office-hours/
URL:https://winchesterwi.com/event/vilas-county-supervisor-at-winchester-public-library/2024-09-06/
LOCATION:Winchester Public Library\, 2117 Lake St\, Winchester\, WI\, 54557\, United States
END:VEVENT
BEGIN:VEVENT
DTSTART;TZID=America/Chicago:20240828T090000
DTEND;TZID=America/Chicago:20240828T100000
DTSTAMP:20260423T044737
CREATED:20240610T223449Z
LAST-MODIFIED:20240820T035550Z
UID:10000134-1724835600-1724839200@winchesterwi.com
SUMMARY:Winchester Town Lakes Committee Meeting
DESCRIPTION:Winchester Town Lakes Committee meeting at 9:00 am at the Winchester Public Library and on Zoom. \nJoin Via Zoom     View Agenda
URL:https://winchesterwi.com/event/winchester-town-lakes-committee-meeting/
LOCATION:Winchester Public Library\, 2117 Lake St\, Winchester\, WI\, 54557\, United States
CATEGORIES:Meetings
END:VEVENT
BEGIN:VEVENT
DTSTART;TZID=America/Chicago:20240826T190000
DTEND;TZID=America/Chicago:20240826T210000
DTSTAMP:20260423T044737
CREATED:20240820T035402Z
LAST-MODIFIED:20240820T035451Z
UID:10000041-1724698800-1724706000@winchesterwi.com
SUMMARY:Planning Commission Meeting
DESCRIPTION:Winchester Town Planning Commission meeting 7:00 pm-9:00PM at the Winchester Town Hall and via Zoom \nJoin Zoom Meeting                       View Agenda\nMeeting ID: 744 184 2374\nPasscode: 231411
URL:https://winchesterwi.com/event/planning-commission-meeting-2-2/
LOCATION:Winchester Town Hall\, 7228 Highway W\, Winchester\, WI\, 54557\, United States
END:VEVENT
BEGIN:VEVENT
DTSTART;TZID=America/Chicago:20240819T100000
DTEND;TZID=America/Chicago:20240819T103000
DTSTAMP:20260423T044737
CREATED:20240818T151957Z
LAST-MODIFIED:20240818T152024Z
UID:10000150-1724061600-1724063400@winchesterwi.com
SUMMARY:Town Board Special Meeting
DESCRIPTION:Winchester Town Board special meeting at 10:00 am at Winchester Town Hall and on Zoom. \nView Agenda             Join Via Zoom
URL:https://winchesterwi.com/event/winchester-town-board-special-meeting/
LOCATION:Winchester Town Hall\, 7228 Highway W\, Winchester\, WI\, 54557\, United States
CATEGORIES:Meetings
END:VEVENT
BEGIN:VEVENT
DTSTART;TZID=America/Chicago:20240809T150000
DTEND;TZID=America/Chicago:20240811T120000
DTSTAMP:20260423T044737
CREATED:20240610T225110Z
LAST-MODIFIED:20240610T225110Z
UID:10000138-1723215600-1723377600@winchesterwi.com
SUMMARY:Adult MTB Clinic -Hosted by For the Love of Bikes at WinMan Trails
DESCRIPTION:https://www.winmantrails.com/event/hosted-by-for-the-love-of-bikes-august-2024/
URL:https://winchesterwi.com/event/adult-mtb-clinic-hosted-by-for-the-love-of-bikes-at-winman-trails/
LOCATION:WinMan Trails\, 6870 Hwy W\, Winchester\, WI\, 54557\, United States
END:VEVENT
BEGIN:VEVENT
DTSTART;TZID=America/Chicago:20240805T180000
DTEND;TZID=America/Chicago:20240805T200000
DTSTAMP:20260423T044737
CREATED:20231229T122818Z
LAST-MODIFIED:20241115T012629Z
UID:10000025-1722880800-1722888000@winchesterwi.com
SUMMARY:Town Board Meeting
DESCRIPTION:Monthly Town Board Meeting at Winchester Town Hall and Via Zoom\nJoin Zoom Meeting\nMeeting ID: 744 184 2374\nPasscode: 231411
URL:https://winchesterwi.com/event/town-board-meeting-2/2024-08-05/
LOCATION:Winchester Town Hall\, 7228 Highway W\, Winchester\, WI\, 54557\, United States
CATEGORIES:Meetings
END:VEVENT
BEGIN:VEVENT
DTSTART;TZID=America/Chicago:20240802T100000
DTEND;TZID=America/Chicago:20240802T120000
DTSTAMP:20260423T044737
CREATED:20240526T230211Z
LAST-MODIFIED:20240725T191718Z
UID:10000142-1722592800-1722600000@winchesterwi.com
SUMMARY:Vilas County Supervisor at Winchester Public Library
DESCRIPTION:Vilas County Supervisor Richard Logan holds office hours from 10am to noon the first Saturday of the month to address your questions and concerns. \n  \nhttps://www.winchesterpubliclibrary.com/series/vilas-county-supervisor-office-hours/
URL:https://winchesterwi.com/event/vilas-county-supervisor-at-winchester-public-library/2024-08-02/
LOCATION:Winchester Public Library\, 2117 Lake St\, Winchester\, WI\, 54557\, United States
END:VEVENT
BEGIN:VEVENT
DTSTART;TZID=America/Chicago:20240730T103000
DTEND;TZID=America/Chicago:20240730T120000
DTSTAMP:20260423T044737
CREATED:20240526T232854Z
LAST-MODIFIED:20240526T232854Z
UID:10000112-1722335400-1722340800@winchesterwi.com
SUMMARY:Eager Beavers Program by the Discovery Center at Winchester Public Library
DESCRIPTION:Learn all about beavers at this family-friendly educational program by the North Lakeland Discovery Center. \nhttps://www.winchesterpubliclibrary.com/event/discovery-center-programs-4/ \n  \n 
URL:https://winchesterwi.com/event/eager-beavers-program-by-the-discovery-center-at-winchester-public-library/
LOCATION:Winchester Public Library\, 2117 Lake St\, Winchester\, WI\, 54557\, United States
END:VEVENT
BEGIN:VEVENT
DTSTART;TZID=America/Chicago:20240722T190000
DTEND;TZID=America/Chicago:20240722T210000
DTSTAMP:20260423T044737
CREATED:20240717T220807Z
LAST-MODIFIED:20240717T220807Z
UID:10000040-1721674800-1721682000@winchesterwi.com
SUMMARY:Planning Commission Meeting
DESCRIPTION:Winchester Town Planning Commission meeting July 22 2024\, 7:00 pm-9:00PM at the Winchester Town Hall and via Zoom \nJoin Zoom Meeting                       View Agenda\nMeeting ID: 744 184 2374\nPasscode: 231411
URL:https://winchesterwi.com/event/planning-commission-meeting-2/
LOCATION:Winchester Town Hall\, 7228 Highway W\, Winchester\, WI\, 54557\, United States
END:VEVENT
BEGIN:VEVENT
DTSTART;TZID=America/Chicago:20240716T103000
DTEND;TZID=America/Chicago:20240716T120000
DTSTAMP:20260423T044737
CREATED:20240526T232606Z
LAST-MODIFIED:20240526T232627Z
UID:10000111-1721125800-1721131200@winchesterwi.com
SUMMARY:Slithery Snakes Program by the Discovery Center at Winchester Public Library
DESCRIPTION:Learn all about snakes at this family friendly educational program by the North Lakeland Discovery Center at the Winchester Public Library. \nhttps://www.winchesterpubliclibrary.com/event/discovery-center-programs-3/ \n  \n 
URL:https://winchesterwi.com/event/slithery-snakes-by-the-discovery-center-at-winchester-public-library/
LOCATION:Winchester Public Library\, 2117 Lake St\, Winchester\, WI\, 54557\, United States
END:VEVENT
BEGIN:VEVENT
DTSTART;TZID=America/Chicago:20240713T120000
DTEND;TZID=America/Chicago:20240713T170000
DTSTAMP:20260423T044737
CREATED:20240526T223139Z
LAST-MODIFIED:20240526T223139Z
UID:10000038-1720872000-1720890000@winchesterwi.com
SUMMARY:Picnic In The Park
DESCRIPTION:
URL:https://winchesterwi.com/event/picnic-in-the-park/
LOCATION:Winchester Town Park\, 2004 Townsite Rd\, Winchester\, WI\, 54557\, United States
END:VEVENT
BEGIN:VEVENT
DTSTART;VALUE=DATE:20240713
DTEND;VALUE=DATE:20240715
DTSTAMP:20260423T044737
CREATED:20240610T224857Z
LAST-MODIFIED:20240610T224857Z
UID:10000137-1720828800-1721001599@winchesterwi.com
SUMMARY:The Spokelore: Northwoods MTB Clinic at WinMan Trails
DESCRIPTION:https://www.winmantrails.com/event/the-spokelore-july-2024/
URL:https://winchesterwi.com/event/the-spokelore-northwoods-mtb-clinic-at-winman-trails/
LOCATION:WinMan Trails\, 6870 Hwy W\, Winchester\, WI\, 54557\, United States
END:VEVENT
BEGIN:VEVENT
DTSTART;TZID=America/Chicago:20240709T110000
DTEND;TZID=America/Chicago:20240709T120000
DTSTAMP:20260423T044737
CREATED:20240525T211704Z
LAST-MODIFIED:20240525T211704Z
UID:10000037-1720522800-1720526400@winchesterwi.com
SUMMARY:History Walk with Blaze
DESCRIPTION:https://www.winchesterpubliclibrary.com/series/history-walk-with-blaze/
URL:https://winchesterwi.com/event/history-walk-with-blaze/2024-07-09/
LOCATION:Winchester Public Library\, 2117 Lake St\, Winchester\, WI\, 54557\, United States
END:VEVENT
BEGIN:VEVENT
DTSTART;TZID=America/Chicago:20240706T170000
DTEND;TZID=America/Chicago:20240706T200000
DTSTAMP:20260423T044737
CREATED:20240607T142919Z
LAST-MODIFIED:20240615T213921Z
UID:10000033-1720285200-1720296000@winchesterwi.com
SUMMARY:Winchester Boat Parade & Music in the Park
DESCRIPTION:Boat Parade at the Turtle Lake Divide followed by Music in the Park at the Winchester Town Park. \nWinchester Lions Club will be serving food and drinks beginning at 5 pm\nBoat Parade begins at 6 pm at the Turtle Lake Divide\nMusic in the park sponsored by the Winchester Lions Club beginning at 6:30 pm at Winchester Town Park with live music\, more food and refreshments\, and a fun time! \nWant to join the parade? No pre-registration required; bring your decorated boat to the South Turtle boat launch by 5:30 pm to register and be assigned a number for voting (look for Tom on the blue bass boat handling registrations) \n 
URL:https://winchesterwi.com/event/winchester-boat-parade-music-in-the-park/
LOCATION:Winchester Town Park\, 2004 Townsite Rd\, Winchester\, WI\, 54557\, United States
END:VEVENT
BEGIN:VEVENT
DTSTART;TZID=America/Chicago:20240705T100000
DTEND;TZID=America/Chicago:20240705T120000
DTSTAMP:20260423T044737
CREATED:20240526T230211Z
LAST-MODIFIED:20240725T191718Z
UID:10000141-1720173600-1720180800@winchesterwi.com
SUMMARY:Vilas County Supervisor at Winchester Public Library
DESCRIPTION:Vilas County Supervisor Richard Logan holds office hours from 10am to noon the first Saturday of the month to address your questions and concerns. \n  \nhttps://www.winchesterpubliclibrary.com/series/vilas-county-supervisor-office-hours/
URL:https://winchesterwi.com/event/vilas-county-supervisor-at-winchester-public-library/2024-07-05/
LOCATION:Winchester Public Library\, 2117 Lake St\, Winchester\, WI\, 54557\, United States
END:VEVENT
BEGIN:VEVENT
DTSTART;TZID=America/Chicago:20240705T090000
DTEND;TZID=America/Chicago:20240706T160000
DTSTAMP:20260423T044737
CREATED:20240610T224636Z
LAST-MODIFIED:20240610T224636Z
UID:10000136-1720170000-1720281600@winchesterwi.com
SUMMARY:Kids Mountain Bike Clinics at WinMan Trails
DESCRIPTION:https://www.winmantrails.com/event/kids-mountain-bike-clinics-2024/
URL:https://winchesterwi.com/event/kids-mountain-bike-clinics-at-winman-trails/
LOCATION:WinMan Trails\, 6870 Hwy W\, Winchester\, WI\, 54557\, United States
END:VEVENT
BEGIN:VEVENT
DTSTART;TZID=America/Chicago:20240702T103000
DTEND;TZID=America/Chicago:20240702T120000
DTSTAMP:20260423T044737
CREATED:20240526T231957Z
LAST-MODIFIED:20240526T231957Z
UID:10000110-1719916200-1719921600@winchesterwi.com
SUMMARY:Salamanders Program by the Discovery Center at Winchester Public Library
DESCRIPTION:Learn about salamanders at this family friendly education program by the North Lakeland Discovery Center at the Winchester Public Library. \nhttps://www.winchesterpubliclibrary.com/event/discovery-center-programs-2/
URL:https://winchesterwi.com/event/salamanders-program-by-the-discovery-center-at-winchester-public-library/
LOCATION:Winchester Public Library\, 2117 Lake St\, Winchester\, WI\, 54557\, United States
END:VEVENT
BEGIN:VEVENT
DTSTART;TZID=America/Chicago:20240627T160000
DTEND;TZID=America/Chicago:20240627T170000
DTSTAMP:20260423T044737
CREATED:20240526T231238Z
LAST-MODIFIED:20240526T231238Z
UID:10000109-1719504000-1719507600@winchesterwi.com
SUMMARY:Ski Flying with Bill Jamerson at Winchester Public Library
DESCRIPTION:https://www.winchesterpubliclibrary.com/event/bill-jamerson-program-about-ski-flying/
URL:https://winchesterwi.com/event/ski-flying-with-bill-jamerson-at-winchester-public-library/
LOCATION:Winchester Public Library\, 2117 Lake St\, Winchester\, WI\, 54557\, United States
END:VEVENT
BEGIN:VEVENT
DTSTART;TZID=America/Chicago:20240626T130000
DTEND;TZID=America/Chicago:20240626T143000
DTSTAMP:20260423T044737
CREATED:20240620T223143Z
LAST-MODIFIED:20240620T223327Z
UID:10000139-1719406800-1719412200@winchesterwi.com
SUMMARY:Board Of Review
DESCRIPTION:Pursuant to Wisconsin Statute 70.47(1)\, the Board of Review will convene on Wednesday\, June 26\, 2024 at 1:00 PM\nat the Winchester Municipal Building\, 7228 County Rd W\, Winchester
URL:https://winchesterwi.com/event/board-of-review/
LOCATION:Winchester Town Hall\, 7228 Highway W\, Winchester\, WI\, 54557\, United States
CATEGORIES:Meetings
END:VEVENT
BEGIN:VEVENT
DTSTART;TZID=America/Chicago:20240625T110000
DTEND;TZID=America/Chicago:20240625T120000
DTSTAMP:20260423T044737
CREATED:20240525T211704Z
LAST-MODIFIED:20240525T211704Z
UID:10000036-1719313200-1719316800@winchesterwi.com
SUMMARY:History Walk with Blaze
DESCRIPTION:https://www.winchesterpubliclibrary.com/series/history-walk-with-blaze/
URL:https://winchesterwi.com/event/history-walk-with-blaze/2024-06-25/
LOCATION:Winchester Public Library\, 2117 Lake St\, Winchester\, WI\, 54557\, United States
END:VEVENT
BEGIN:VEVENT
DTSTART;TZID=America/Chicago:20240624T190000
DTEND;TZID=America/Chicago:20240624T210000
DTSTAMP:20260423T044737
CREATED:20240526T223330Z
LAST-MODIFIED:20240526T223524Z
UID:10000039-1719255600-1719262800@winchesterwi.com
SUMMARY:Planning Commission Meeting
DESCRIPTION:
URL:https://winchesterwi.com/event/planning-commission-meeting/
LOCATION:Winchester Town Hall\, 7228 Highway W\, Winchester\, WI\, 54557\, United States
END:VEVENT
BEGIN:VEVENT
DTSTART;TZID=America/Chicago:20240621T100000
DTEND;TZID=America/Chicago:20240621T110000
DTSTAMP:20260423T044737
CREATED:20240526T230748Z
LAST-MODIFIED:20240526T230748Z
UID:10000108-1718964000-1718967600@winchesterwi.com
SUMMARY:Birthday Club at the Winchester Public Library
DESCRIPTION:Come and celebrate June birthdays at the Winchester Public Library with ice cream\, snacks\, and a good time. \nhttps://www.winchesterpubliclibrary.com/event/birthday-club-4/
URL:https://winchesterwi.com/event/birthday-club-at-the-winchester-public-library/
LOCATION:Winchester Public Library\, 2117 Lake St\, Winchester\, WI\, 54557\, United States
END:VEVENT
BEGIN:VEVENT
DTSTART;TZID=America/Chicago:20240615T090000
DTEND;TZID=America/Chicago:20240615T153000
DTSTAMP:20260423T044737
CREATED:20240610T224400Z
LAST-MODIFIED:20240610T224400Z
UID:10000135-1718442000-1718465400@winchesterwi.com
SUMMARY:Women’s Beginner MTB Clinic at WinMan Trails
DESCRIPTION:https://www.winmantrails.com/event/womens-beginner-mtb-clinic-2024/
URL:https://winchesterwi.com/event/womens-beginner-mtb-clinic-at-winman-trails/
LOCATION:WinMan Trails\, 6870 Hwy W\, Winchester\, WI\, 54557\, United States
END:VEVENT
BEGIN:VEVENT
DTSTART;TZID=America/Chicago:20240607T100000
DTEND;TZID=America/Chicago:20240607T120000
DTSTAMP:20260423T044737
CREATED:20240526T230211Z
LAST-MODIFIED:20240725T191718Z
UID:10000140-1717754400-1717761600@winchesterwi.com
SUMMARY:Vilas County Supervisor at Winchester Public Library
DESCRIPTION:Vilas County Supervisor Richard Logan holds office hours from 10am to noon the first Saturday of the month to address your questions and concerns. \n  \nhttps://www.winchesterpubliclibrary.com/series/vilas-county-supervisor-office-hours/
URL:https://winchesterwi.com/event/vilas-county-supervisor-at-winchester-public-library/2024-06-07/
LOCATION:Winchester Public Library\, 2117 Lake St\, Winchester\, WI\, 54557\, United States
END:VEVENT
BEGIN:VEVENT
DTSTART;TZID=America/Chicago:20240604T120000
DTEND;TZID=America/Chicago:20240604T120000
DTSTAMP:20260423T044737
CREATED:20240525T210356Z
LAST-MODIFIED:20240525T210510Z
UID:10000034-1717502400-1717502400@winchesterwi.com
SUMMARY:Jeff Kersten\, Consumer Protection – Common Scams and Frauds Targeting Seniors
DESCRIPTION:https://www.winchesterpubliclibrary.com/event/jeff-kersten-consumer-protection-common-scams-and-frauds-targeting-seniors/
URL:https://winchesterwi.com/event/jeff-kersten-consumer-protection-common-scams-and-frauds-targeting-seniors/
LOCATION:Winchester Public Library\, 2117 Lake St\, Winchester\, WI\, 54557\, United States
END:VEVENT
BEGIN:VEVENT
DTSTART;TZID=America/Chicago:20240506T180000
DTEND;TZID=America/Chicago:20240506T200000
DTSTAMP:20260423T044737
CREATED:20231229T122818Z
LAST-MODIFIED:20241115T012629Z
UID:10000022-1715018400-1715025600@winchesterwi.com
SUMMARY:Town Board Meeting
DESCRIPTION:Monthly Town Board Meeting at Winchester Town Hall and Via Zoom\nJoin Zoom Meeting\nMeeting ID: 744 184 2374\nPasscode: 231411
URL:https://winchesterwi.com/event/town-board-meeting-2/2024-05-06/
LOCATION:Winchester Town Hall\, 7228 Highway W\, Winchester\, WI\, 54557\, United States
CATEGORIES:Meetings
END:VEVENT
BEGIN:VEVENT
DTSTART;TZID=America/Chicago:20240425T083000
DTEND;TZID=America/Chicago:20240425T083000
DTSTAMP:20260423T044737
CREATED:20240425T120901Z
LAST-MODIFIED:20240428T113726Z
UID:10000032-1714033800-1714033800@winchesterwi.com
SUMMARY:Special Town Board Meeting
DESCRIPTION:View Meeting Agenda
URL:https://winchesterwi.com/event/special-town-board-meeting/
LOCATION:Winchester Town Hall\, 7228 Highway W\, Winchester\, WI\, 54557\, United States
CATEGORIES:Meetings
END:VEVENT
END:VCALENDAR