BEGIN:VCALENDAR
VERSION:2.0
PRODID:-//Town Winchester - ECPv6.15.20//NONSGML v1.0//EN
CALSCALE:GREGORIAN
METHOD:PUBLISH
X-ORIGINAL-URL:https://winchesterwi.com
X-WR-CALDESC:Events for Town Winchester
REFRESH-INTERVAL;VALUE=DURATION:PT1H
X-Robots-Tag:noindex
X-PUBLISHED-TTL:PT1H
BEGIN:VTIMEZONE
TZID:America/Chicago
BEGIN:DAYLIGHT
TZOFFSETFROM:-0600
TZOFFSETTO:-0500
TZNAME:CDT
DTSTART:20230312T080000
END:DAYLIGHT
BEGIN:STANDARD
TZOFFSETFROM:-0500
TZOFFSETTO:-0600
TZNAME:CST
DTSTART:20231105T070000
END:STANDARD
BEGIN:DAYLIGHT
TZOFFSETFROM:-0600
TZOFFSETTO:-0500
TZNAME:CDT
DTSTART:20240310T080000
END:DAYLIGHT
BEGIN:STANDARD
TZOFFSETFROM:-0500
TZOFFSETTO:-0600
TZNAME:CST
DTSTART:20241103T070000
END:STANDARD
BEGIN:DAYLIGHT
TZOFFSETFROM:-0600
TZOFFSETTO:-0500
TZNAME:CDT
DTSTART:20250309T080000
END:DAYLIGHT
BEGIN:STANDARD
TZOFFSETFROM:-0500
TZOFFSETTO:-0600
TZNAME:CST
DTSTART:20251102T070000
END:STANDARD
BEGIN:DAYLIGHT
TZOFFSETFROM:-0600
TZOFFSETTO:-0500
TZNAME:CDT
DTSTART:20260308T080000
END:DAYLIGHT
BEGIN:STANDARD
TZOFFSETFROM:-0500
TZOFFSETTO:-0600
TZNAME:CST
DTSTART:20261101T070000
END:STANDARD
END:VTIMEZONE
BEGIN:VEVENT
DTSTART;TZID=America/Chicago:20250224T190000
DTEND;TZID=America/Chicago:20250224T210000
DTSTAMP:20260421T043723
CREATED:20250222T234850Z
LAST-MODIFIED:20250222T234850Z
UID:10000184-1740423600-1740430800@winchesterwi.com
SUMMARY:Planning Commission Meeting
DESCRIPTION:Winchester Town Planning Commission meeting at Winchester Town Hall and on Zoom \nView Agenda            Join Via Zoom
URL:https://winchesterwi.com/event/planning-commission-meeting-3/
LOCATION:Winchester Town Hall\, 7228 Highway W\, Winchester\, WI\, 54557\, United States
CATEGORIES:Meetings
END:VEVENT
BEGIN:VEVENT
DTSTART;TZID=America/Chicago:20250212T090000
DTEND;TZID=America/Chicago:20250212T100000
DTSTAMP:20260421T043723
CREATED:20250210T204126Z
LAST-MODIFIED:20250210T204126Z
UID:10000182-1739350800-1739354400@winchesterwi.com
SUMMARY:Special Town Board Meeting
DESCRIPTION:Special meeting of the Winchester Town Board at 9:00 am at Winchester Town Hall and on Zoom. \nView Agenda
URL:https://winchesterwi.com/event/special-town-board-meeting-6/
LOCATION:Winchester Town Hall\, 7228 Highway W\, Winchester\, WI\, 54557\, United States
CATEGORIES:Meetings
END:VEVENT
BEGIN:VEVENT
DTSTART;TZID=America/Chicago:20250203T180000
DTEND;TZID=America/Chicago:20250203T203000
DTSTAMP:20260421T043723
CREATED:20250131T015600Z
LAST-MODIFIED:20250131T015601Z
UID:10000169-1738605600-1738614600@winchesterwi.com
SUMMARY:Regular Town Board Meeting
DESCRIPTION:Winchester Town Board meeting 6:00 pm at Winchester Town Hall and on Zoom \nView Agenda                    Join Via Zoom \nMeeting ID: 744 184 2374\nPasscode: 300789
URL:https://winchesterwi.com/event/regular-town-board-meeting-2/
LOCATION:Winchester Town Hall\, 7228 Highway W\, Winchester\, WI\, 54557\, United States
CATEGORIES:Meetings
END:VEVENT
BEGIN:VEVENT
DTSTART;TZID=America/Chicago:20250108T150000
DTEND;TZID=America/Chicago:20250108T170000
DTSTAMP:20260421T043723
CREATED:20250107T154828Z
LAST-MODIFIED:20250107T155004Z
UID:10000180-1736348400-1736355600@winchesterwi.com
SUMMARY:Special Town Board Meeting
DESCRIPTION:Special Meeting of Winchester Town Board 3:00 pm at Winchester Town Hall \nView Agenda
URL:https://winchesterwi.com/event/special-town-board-meeting-5/
LOCATION:Winchester Town Hall\, 7228 Highway W\, Winchester\, WI\, 54557\, United States
END:VEVENT
BEGIN:VEVENT
DTSTART;TZID=America/Chicago:20250106T180000
DTEND;TZID=America/Chicago:20250106T203000
DTSTAMP:20260421T043723
CREATED:20250104T013953Z
LAST-MODIFIED:20250104T021652Z
UID:10000168-1736186400-1736195400@winchesterwi.com
SUMMARY:Regular Town Board Meeting
DESCRIPTION:Winchester Town Board meeting 6:00 pm at Winchester Town Hall and on Zoom \nView Agenda                      Join Via Zoom \nMeeting ID: 744 184 2374\nPasscode: 231411
URL:https://winchesterwi.com/event/regular-town-board-meeting/
LOCATION:Winchester Town Hall\, 7228 Highway W\, Winchester\, WI\, 54557\, United States
CATEGORIES:Meetings
END:VEVENT
BEGIN:VEVENT
DTSTART;TZID=America/Chicago:20241202T180000
DTEND;TZID=America/Chicago:20241202T220000
DTSTAMP:20260421T043723
CREATED:20241115T011752Z
LAST-MODIFIED:20241121T210940Z
UID:10000165-1733162400-1733176800@winchesterwi.com
SUMMARY:Town of Winchester Public Budget Hearing\, Special Meeting of Electors\, Special Town Board Meeting
DESCRIPTION:Public Budget Hearing to begin at 6:00 pm on Winchester Town Hall and on Zoom\nView Notice\nJoin Via Zoom \nSpecial Town Meeting of the Electors to immediately follow the completion of the Public Budget Hearing\nView Notice\nView Resolution \nSpecial Town Board Meeting to immediately follow the completion of the Special Town Meeting of the Electors. Among the agenda items will be the approval of the Proposed 2025 Budget.\nView Notice
URL:https://winchesterwi.com/event/town-of-winchester-public-budget-hearing/
LOCATION:Winchester Town Hall\, 7228 Highway W\, Winchester\, WI\, 54557\, United States
CATEGORIES:Meetings
END:VEVENT
BEGIN:VEVENT
DTSTART;TZID=America/Chicago:20241113T190000
DTEND;TZID=America/Chicago:20241113T213000
DTSTAMP:20260421T043723
CREATED:20241103T142756Z
LAST-MODIFIED:20241103T142756Z
UID:10000162-1731524400-1731533400@winchesterwi.com
SUMMARY:GIVN Strategic Health Plan Public Meeting
DESCRIPTION:View Flyer \nA public meeting to discuss the health care needs of\nresidents of Vilas and Iron County as part of the GIVN\nNetwork’s Strategic Planning Project.
URL:https://winchesterwi.com/event/givn-strategic-health-plan-public-meeting/
LOCATION:Winchester Town Hall\, 7228 Highway W\, Winchester\, WI\, 54557\, United States
CATEGORIES:Meetings
END:VEVENT
BEGIN:VEVENT
DTSTART;TZID=America/Chicago:20241113T180000
DTEND;TZID=America/Chicago:20241113T183000
DTSTAMP:20260421T043723
CREATED:20241112T032913Z
LAST-MODIFIED:20241112T032913Z
UID:10000164-1731520800-1731522600@winchesterwi.com
SUMMARY:Special Town Board Meeting
DESCRIPTION:View Agenda
URL:https://winchesterwi.com/event/special-town-board-meeting-4/
LOCATION:Winchester Town Hall\, 7228 Highway W\, Winchester\, WI\, 54557\, United States
CATEGORIES:Meetings
END:VEVENT
BEGIN:VEVENT
DTSTART;TZID=America/Chicago:20241108T133000
DTEND;TZID=America/Chicago:20241108T153000
DTSTAMP:20260421T043723
CREATED:20241107T203311Z
LAST-MODIFIED:20241107T203311Z
UID:10000163-1731072600-1731079800@winchesterwi.com
SUMMARY:Special Town Board Meeting
DESCRIPTION:Special Town Board meeting at 1:30 pm at Winchester Town Hall \nView Agenda
URL:https://winchesterwi.com/event/special-town-board-meeting-3/
LOCATION:Winchester Town Hall\, 7228 Highway W\, Winchester\, WI\, 54557\, United States
CATEGORIES:Meetings
END:VEVENT
BEGIN:VEVENT
DTSTART;TZID=America/Chicago:20241104T180000
DTEND;TZID=America/Chicago:20241104T200000
DTSTAMP:20260421T043723
CREATED:20240601T204846Z
LAST-MODIFIED:20241101T014915Z
UID:10000024-1730743200-1730750400@winchesterwi.com
SUMMARY:Town Board Meeting
DESCRIPTION:Monthly Town Board Meeting at Winchester Town Hall and Via Zoom\nJoin Zoom Meeting    View Agenda\nMeeting ID: 744 184 2374\nPasscode: 231411
URL:https://winchesterwi.com/event/town-board-meeting-2-3/
LOCATION:Winchester Town Hall\, 7228 Highway W\, Winchester\, WI\, 54557\, United States
CATEGORIES:Meetings
END:VEVENT
BEGIN:VEVENT
DTSTART;TZID=America/Chicago:20241104T180000
DTEND;TZID=America/Chicago:20241104T200000
DTSTAMP:20260421T043723
CREATED:20231229T122818Z
LAST-MODIFIED:20241115T012629Z
UID:10000028-1730743200-1730750400@winchesterwi.com
SUMMARY:Town Board Meeting
DESCRIPTION:Monthly Town Board Meeting at Winchester Town Hall and Via Zoom\nJoin Zoom Meeting\nMeeting ID: 744 184 2374\nPasscode: 231411
URL:https://winchesterwi.com/event/town-board-meeting-2/2024-11-04/
LOCATION:Winchester Town Hall\, 7228 Highway W\, Winchester\, WI\, 54557\, United States
CATEGORIES:Meetings
END:VEVENT
BEGIN:VEVENT
DTSTART;TZID=America/Chicago:20241028T190000
DTEND;TZID=America/Chicago:20241028T210000
DTSTAMP:20260421T043723
CREATED:20241024T000339Z
LAST-MODIFIED:20241029T220755Z
UID:10000043-1730142000-1730149200@winchesterwi.com
SUMMARY:Planning Commission Meeting
DESCRIPTION:Winchester Town Planning Commission meeting 7:00 pm-9:00PM at the Winchester Town Hall and via Zoom \nJoin Zoom Meeting                       View Agenda\nMeeting ID: 744 184 2374\nPasscode: 231411
URL:https://winchesterwi.com/event/planning-commission-meeting-2-2-2-2/2024-10-28/
LOCATION:Winchester Town Hall\, 7228 Highway W\, Winchester\, WI\, 54557\, United States
CATEGORIES:Meetings
END:VEVENT
BEGIN:VEVENT
DTSTART;TZID=America/Chicago:20241021T130000
DTEND;TZID=America/Chicago:20241021T170000
DTSTAMP:20260421T043723
CREATED:20241019T193543Z
LAST-MODIFIED:20241019T193543Z
UID:10000161-1729515600-1729530000@winchesterwi.com
SUMMARY:Town Board Special Meeting
DESCRIPTION:Special Meeting of the Winchester Town Board on Monday\, October 21st at 1:00pm at Winchester Town Hall \nView Agenda
URL:https://winchesterwi.com/event/town-board-special-meeting/
LOCATION:Winchester Town Hall\, 7228 Highway W\, Winchester\, WI\, 54557\, United States
CATEGORIES:Meetings
END:VEVENT
BEGIN:VEVENT
DTSTART;TZID=America/Chicago:20241007T180000
DTEND;TZID=America/Chicago:20241007T200000
DTSTAMP:20260421T043723
CREATED:20231229T122818Z
LAST-MODIFIED:20241115T012629Z
UID:10000027-1728324000-1728331200@winchesterwi.com
SUMMARY:Town Board Meeting
DESCRIPTION:Monthly Town Board Meeting at Winchester Town Hall and Via Zoom\nJoin Zoom Meeting\nMeeting ID: 744 184 2374\nPasscode: 231411
URL:https://winchesterwi.com/event/town-board-meeting-2/2024-10-07/
LOCATION:Winchester Town Hall\, 7228 Highway W\, Winchester\, WI\, 54557\, United States
CATEGORIES:Meetings
END:VEVENT
BEGIN:VEVENT
DTSTART;TZID=America/Chicago:20240923T190000
DTEND;TZID=America/Chicago:20240923T210000
DTSTAMP:20260421T043723
CREATED:20240916T214717Z
LAST-MODIFIED:20240916T214717Z
UID:10000042-1727118000-1727125200@winchesterwi.com
SUMMARY:Planning Commission Meeting
DESCRIPTION:Winchester Town Planning Commission meeting 7:00 pm-9:00PM at the Winchester Town Hall and via Zoom \nJoin Zoom Meeting                       View Agenda\nMeeting ID: 744 184 2374\nPasscode: 231411
URL:https://winchesterwi.com/event/planning-commission-meeting-2-2-2/
LOCATION:Winchester Town Hall\, 7228 Highway W\, Winchester\, WI\, 54557\, United States
END:VEVENT
BEGIN:VEVENT
DTSTART;TZID=America/Chicago:20240826T190000
DTEND;TZID=America/Chicago:20240826T210000
DTSTAMP:20260421T043723
CREATED:20240820T035402Z
LAST-MODIFIED:20240820T035451Z
UID:10000041-1724698800-1724706000@winchesterwi.com
SUMMARY:Planning Commission Meeting
DESCRIPTION:Winchester Town Planning Commission meeting 7:00 pm-9:00PM at the Winchester Town Hall and via Zoom \nJoin Zoom Meeting                       View Agenda\nMeeting ID: 744 184 2374\nPasscode: 231411
URL:https://winchesterwi.com/event/planning-commission-meeting-2-2/
LOCATION:Winchester Town Hall\, 7228 Highway W\, Winchester\, WI\, 54557\, United States
END:VEVENT
BEGIN:VEVENT
DTSTART;TZID=America/Chicago:20240819T100000
DTEND;TZID=America/Chicago:20240819T103000
DTSTAMP:20260421T043723
CREATED:20240818T151957Z
LAST-MODIFIED:20240818T152024Z
UID:10000150-1724061600-1724063400@winchesterwi.com
SUMMARY:Town Board Special Meeting
DESCRIPTION:Winchester Town Board special meeting at 10:00 am at Winchester Town Hall and on Zoom. \nView Agenda             Join Via Zoom
URL:https://winchesterwi.com/event/winchester-town-board-special-meeting/
LOCATION:Winchester Town Hall\, 7228 Highway W\, Winchester\, WI\, 54557\, United States
CATEGORIES:Meetings
END:VEVENT
BEGIN:VEVENT
DTSTART;TZID=America/Chicago:20240805T180000
DTEND;TZID=America/Chicago:20240805T200000
DTSTAMP:20260421T043723
CREATED:20231229T122818Z
LAST-MODIFIED:20241115T012629Z
UID:10000025-1722880800-1722888000@winchesterwi.com
SUMMARY:Town Board Meeting
DESCRIPTION:Monthly Town Board Meeting at Winchester Town Hall and Via Zoom\nJoin Zoom Meeting\nMeeting ID: 744 184 2374\nPasscode: 231411
URL:https://winchesterwi.com/event/town-board-meeting-2/2024-08-05/
LOCATION:Winchester Town Hall\, 7228 Highway W\, Winchester\, WI\, 54557\, United States
CATEGORIES:Meetings
END:VEVENT
BEGIN:VEVENT
DTSTART;TZID=America/Chicago:20240722T190000
DTEND;TZID=America/Chicago:20240722T210000
DTSTAMP:20260421T043723
CREATED:20240717T220807Z
LAST-MODIFIED:20240717T220807Z
UID:10000040-1721674800-1721682000@winchesterwi.com
SUMMARY:Planning Commission Meeting
DESCRIPTION:Winchester Town Planning Commission meeting July 22 2024\, 7:00 pm-9:00PM at the Winchester Town Hall and via Zoom \nJoin Zoom Meeting                       View Agenda\nMeeting ID: 744 184 2374\nPasscode: 231411
URL:https://winchesterwi.com/event/planning-commission-meeting-2/
LOCATION:Winchester Town Hall\, 7228 Highway W\, Winchester\, WI\, 54557\, United States
END:VEVENT
BEGIN:VEVENT
DTSTART;TZID=America/Chicago:20240626T130000
DTEND;TZID=America/Chicago:20240626T143000
DTSTAMP:20260421T043723
CREATED:20240620T223143Z
LAST-MODIFIED:20240620T223327Z
UID:10000139-1719406800-1719412200@winchesterwi.com
SUMMARY:Board Of Review
DESCRIPTION:Pursuant to Wisconsin Statute 70.47(1)\, the Board of Review will convene on Wednesday\, June 26\, 2024 at 1:00 PM\nat the Winchester Municipal Building\, 7228 County Rd W\, Winchester
URL:https://winchesterwi.com/event/board-of-review/
LOCATION:Winchester Town Hall\, 7228 Highway W\, Winchester\, WI\, 54557\, United States
CATEGORIES:Meetings
END:VEVENT
BEGIN:VEVENT
DTSTART;TZID=America/Chicago:20240624T190000
DTEND;TZID=America/Chicago:20240624T210000
DTSTAMP:20260421T043723
CREATED:20240526T223330Z
LAST-MODIFIED:20240526T223524Z
UID:10000039-1719255600-1719262800@winchesterwi.com
SUMMARY:Planning Commission Meeting
DESCRIPTION:
URL:https://winchesterwi.com/event/planning-commission-meeting/
LOCATION:Winchester Town Hall\, 7228 Highway W\, Winchester\, WI\, 54557\, United States
END:VEVENT
BEGIN:VEVENT
DTSTART;TZID=America/Chicago:20240506T180000
DTEND;TZID=America/Chicago:20240506T200000
DTSTAMP:20260421T043723
CREATED:20231229T122818Z
LAST-MODIFIED:20241115T012629Z
UID:10000022-1715018400-1715025600@winchesterwi.com
SUMMARY:Town Board Meeting
DESCRIPTION:Monthly Town Board Meeting at Winchester Town Hall and Via Zoom\nJoin Zoom Meeting\nMeeting ID: 744 184 2374\nPasscode: 231411
URL:https://winchesterwi.com/event/town-board-meeting-2/2024-05-06/
LOCATION:Winchester Town Hall\, 7228 Highway W\, Winchester\, WI\, 54557\, United States
CATEGORIES:Meetings
END:VEVENT
BEGIN:VEVENT
DTSTART;TZID=America/Chicago:20240425T083000
DTEND;TZID=America/Chicago:20240425T083000
DTSTAMP:20260421T043723
CREATED:20240425T120901Z
LAST-MODIFIED:20240428T113726Z
UID:10000032-1714033800-1714033800@winchesterwi.com
SUMMARY:Special Town Board Meeting
DESCRIPTION:View Meeting Agenda
URL:https://winchesterwi.com/event/special-town-board-meeting/
LOCATION:Winchester Town Hall\, 7228 Highway W\, Winchester\, WI\, 54557\, United States
CATEGORIES:Meetings
END:VEVENT
END:VCALENDAR